Workbook
Name _100FU36_: '[1]SA1_起業計画案(新)1'!#REF!
Name _100FU36_: '[1]SA1_起業計画案(新)1'!#REF!
Name _101FU4_: '[1]SA1_起業計画案(新)1'!#REF!
Name _101FU4_: '[1]SA1_起業計画案(新)1'!#REF!
Name _102FU42_: '[1]SA1_起業計画案(新)1'!#REF!
Name _102FU42_: '[1]SA1_起業計画案(新)1'!#REF!
Name _103FU5_: '[1]SA1_起業計画案(新)1'!#REF!
Name _103FU5_: '[1]SA1_起業計画案(新)1'!#REF!
Name _104FU6_: '[1]SA1_起業計画案(新)1'!#REF!
Name _104FU6_: '[1]SA1_起業計画案(新)1'!#REF!
Name _105FU8_: '[1]SA1_起業計画案(新)1'!#REF!
Name _106I10_: '[1]SA1_起業計画案(新)1'!#REF!
Name _107I14_: '[1]SA1_起業計画案(新)1'!#REF!
Name _108I2_: '[1]SA1_起業計画案(新)1'!#REF!
Name _109I25_: '[1]SA1_起業計画案(新)1'!#REF!
Name _10BM6_: '[1]SA1_起業計画案(新)1'!#REF!
Name _110I30_: '[1]SA1_起業計画案(新)1'!#REF!
Name _111I36_: '[1]SA1_起業計画案(新)1'!#REF!
Name _112I4_: '[1]SA1_起業計画案(新)1'!#REF!
Name _113I42_: '[1]SA1_起業計画案(新)1'!#REF!
Name _114I5_: '[1]SA1_起業計画案(新)1'!#REF!
Name _115I6_: '[1]SA1_起業計画案(新)1'!#REF!
Name _116I8_: '[1]SA1_起業計画案(新)1'!#REF!
Name _117IR10_: '[1]SA1_起業計画案(新)1'!#REF!
Name _118IR14_: '[1]SA1_起業計画案(新)1'!#REF!
Name _119IR20_: '[1]SA1_起業計画案(新)1'!#REF!
Name _11BM8_: '[1]SA1_起業計画案(新)1'!#REF!
Name _120IR25_: '[1]SA1_起業計画案(新)1'!#REF!
Name _121IR30_: '[1]SA1_起業計画案(新)1'!#REF!
Name _122IR36_: '[1]SA1_起業計画案(新)1'!#REF!
Name _123IR4_: '[1]SA1_起業計画案(新)1'!#REF!
Name _124IR42_: '[1]SA1_起業計画案(新)1'!#REF!
Name _125L10_: '[1]SA1_起業計画案(新)1'!#REF!
Name _126L14_: '[1]SA1_起業計画案(新)1'!#REF!
Name _127L2_: '[1]SA1_起業計画案(新)1'!#REF!
Name _128L20_: '[1]SA1_起業計画案(新)1'!#REF!
Name _129L25_: '[1]SA1_起業計画案(新)1'!#REF!
Name _12CG10_: '[1]SA1_起業計画案(新)1'!#REF!
Name _130L30_: '[1]SA1_起業計画案(新)1'!#REF!
Name _131L36_: '[1]SA1_起業計画案(新)1'!#REF!
Name _132L4_: '[1]SA1_起業計画案(新)1'!#REF!
Name _133L42_: '[1]SA1_起業計画案(新)1'!#REF!
Name _134L5_: '[1]SA1_起業計画案(新)1'!#REF!
Name _135L6_: '[1]SA1_起業計画案(新)1'!#REF!
Name _136L8_: '[1]SA1_起業計画案(新)1'!#REF!
Name _137N10_: '[1]SA1_起業計画案(新)1'!#REF!
Name _138N14_: '[1]SA1_起業計画案(新)1'!#REF!
Name _139N2_: '[1]SA1_起業計画案(新)1'!#REF!
Name _13CG14_: '[1]SA1_起業計画案(新)1'!#REF!
Name _140N20_: !#REF!
Name _141N25_: '[1]SA1_起業計画案(新)1'!#REF!
Name _142N3_: '[1]SA1_起業計画案(新)1'!#REF!
Name _143N30_: '[1]SA1_起業計画案(新)1'!#REF!
Name _144N36_: '[1]SA1_起業計画案(新)1'!#REF!
Name _145N42_: '[1]SA1_起業計画案(新)1'!#REF!
Name _146N5_: '[1]SA1_起業計画案(新)1'!#REF!
Name _147N6_: '[1]SA1_起業計画案(新)1'!#REF!
Name _148N7_: '[1]SA1_起業計画案(新)1'!#REF!
Name _149N8_: !#REF!
Name _14CG2_: '[1]SA1_起業計画案(新)1'!#REF!

Sheet R9(有製程用水版)
B1: 統計月份： | H1: 年 | K1: 月 | N1: 廠商名稱： | R1: OOOOOO股份有限公司OOO廠
B2: 園區別： | F2: 新竹園區 | N2: 用水地址： | R2: OOOOOOOOOOOOOOOOOO | AG2: 注意：填寫單位為噸/日、m3/day、CMD
K5: =E9+S40-AM6-K8 -> 10
E6: 民生用水 | L6: 消耗及逸散 | AM6: 140
AN7: 排放(d1)
K8: 10 | P8: 500 | AB8: 0
E9: 150 | K9: (c9) | P9: (P2) | T9: 20 | AC9: 產品消耗(Q)
E10: (w3) | T10: 消耗/逸散(V3) | V10: (P3)
B11: 10000 | G11: 9000 | M11: =G11+M20+Q15-P8+K24+K25+H16+K26 -> 11600 | R11: 純水系統 | V11: =M11-(Q13+AE14+T9) -> 7080 | Y11: 製程 | AE11: =P8+V11-AA17-AB8 -> 880 | AJ11: =SUM(AE11,AE14,AE24,AE39)-AH22 -> 3560 | AL11: 廢水處理設備 | AQ11: =SUM(AM6,AJ11)-AL14 -> 3700
B12: 自來水(W) | G12: (w1) | M12: (P1) | AE12: 排放(d2) | AJ12: (D1) | AP12: 總廢水排放量(D2)
E13: =B11-E9-G11 -> 850 | Q13: =Q15+S17 -> 4000 | W13: 12000
E14: (w2) | V14: 機台循環串級利用水量 | W14: (c7) | AE14: 500 | AL14: 0 | AO14: 英文代碼說明 :
Q15: 2000 | T15: =IF(W13>(SUM((B26+B29)+(Q15+S17+M20+V22+W27+Y33+W13+W34+K8+M45))*0.5),"C7回收量大於全廠回收量50%，請於下方填寫說明！"," ") -> C7回收量大於全廠回收量50%，請於下方填寫說明！ | AE15: 排放(d3) | AL15: (r4) | AO15: A1: | AP15: 冷凝水回收
H16: 0 | R16: 製程水處理回收利用(c1) | AO16: A1-1: | AP16: 冷凝水回收至原水池 | AU16: A1-2: | AV16: 冷凝水回收至次級用水
G17: (R1-1) | S17: 2000 | AA17: =M20+V22+AE24 -> 6700 | AO17: A2: | AP17: 雨水回收
S18: 製程水處理回收利用(c2) | AO18: A2-1: | AP18: 雨水回收至原水池 | AU18: A2-2: | AV18: 雨水回收至次級用水
AO19: W : | AP19: 自來水
M20: 1000 | Y20: 製程水 循環回收 利用系統 | AO20: w1: | AP20: 製程用自來水量 | AT20: w2: | AU20: 次級用自來水量
L21: 製程水處理回收利用(c3) | AO21: w3: | AP21: 民生用自來水量
V22: 5500 | AH22: 0 | AO22: D1: | AP22: 排入廠內廢水處理廠處理廢水量
X23: 製程水處理回收利用(c4) | AH23: (r1) | AO23: D2: | AP23: 總廢水排放量
K24: 100 | M24: (A1-1) | AE24: 200 | AO24: d1: | AP24: 民生用水廢水 | AT24: d3: | AU24: 純水再生廢水
K25: 0 | M25: (A2-1) | AE25: 排放(d4) | AO25: d2: | AP25: 處理排放廢水 | AT25: d4: | AU25: 製程水循環回收利用系統再生廢水
B26: 300 | D26: 冷凝水(A1) | K26: 0 | M26: (R2-1) | P26: =B26-K24 -> 200 | R26: (A1-2) | AO26: d5: | AP26: 次级用水廢水
W27: 100 | AO27: d5-1: | AP27: L/C Scrubber排放廢水
U28: (f1) | W28: c5 | AB28: =U29-AC31-AH29 -> 100 | AC28: 蒸發(V2) | AO28: d5-2: | AP28: C/T排放廢水 | AT28: d5-3: | AU28: 公共用水排放廢水
B29: 120 | D29: 雨水(A2) | P29: =B29-K25 -> 120 | R29: (A2-2) | U29: 1000 | X29: Local/Central Scrubber | AH29: 0 | AO29: R1: | AP29: 廠內總二次利用廢水
AH30: (r2) | AO30: R1-1: | AP30: 廠內總二次利用廢水回收至原水池
AC31: 900 | AO31: R1-2: | AP31: 廠內總二次利用廢水回收至次級用水
B32: 0 | D32: (R2) | P32: =B32-K26 -> 0 | R32: (R2-2) | U32: C/T排水導電度 | AC32: (d5-1) | AO32: r1: | AP32: 廠內製程廢水回收 | AU32: r2: | AV32: 廠內L/S排放廢水回收
B33: 外部二次利用廢水回收或新興水源使用 | V33: 1800 | Y33: 150 | AO33: r3: | AP33: 廠內C/T排放廢水回收 | AU33: r4: | AV33: 廠內廢水廠排放廢水回收
W34: =IF(V33<=1500,0,(U37-AA34)*((V33/1250)-1.2)) -> 240 | AA34: =U37-AB40-AH36 -> 6500 | AO34: R2: | AP34: 外部二次利用廢水回收 (如園區中水、再生水...)
B35: (如園區中水、再生水...) | P35: =M45-H16 -> 0 | R35: (R1-2) | W35: c8 | Z35: c6 | AB35: 蒸發(V1) | AO35: R2-1: | AP35: 外部二次利用廢水回收至原水池
U36: (f2) | X36: 冷卻水塔 | AH36: 0 | AO36: R2-2: | AP36: 外部二次利用廢水回收至次級用水
T37: =E13+P26+V22+S17+P29+P32+P35+K8 -> 8680 | U37: 7500 | AH37: (r3) | AO37: P1: | AP37: 純水系統取水量 | AT37: P2: | AU37: 製程機台非屬純水系統取水量
T38: (F) | AO38: P3: | AP38: 製程機台純水用量
AE39: =(U29+U37+U42)-(AA34+AB28+Y40+AH29+AH36) -> 1980 | AO39: c1: | AP39: 製程水處理回收利用(純水系統排水回收利用)
S40: 10 | T40: (f4) | Y40: 90 | AB40: 1000 | AE40: 排放(d5) | AO40: c2: | AP40: 製程水處理回收利用(純水系統排水回收利用)
S41: 民生用途(ex.沖廁) | U41: (f3) | Z41: 消耗/逸散 | AB41: (d5-2) | AO41: c3: | AP41: 製程水處理回收利用(製程系統排水回收利用)
U42: =T37-U29-U37-S40 -> 170 | X42: 廠務/公共用水 | AO42: c4: | AP42: 製程水處理回收利用(製程系統排水回收利用)
AC43: =U42-Y40 -> 80 | AE43: (d5-3) | AO43: c5: | AP43: L/S+C/S排水循環回收利用(需建置回收設備)
AO44: c6: | AP44: C/T濃排水回收利用 (需建置回收設備,若僅採旁濾者,c6 = f2 x 0.02 )
M45: =SUM(AH22,AH29,AH36,AL14) -> 0 | AO45: c7: | AP45: 製程機台用水循環再利用(串級利用)
M46: 廠內總二次利用廢水回收(R1) | AP46: 需裝設流量計，光電業以外之產業，需設置過濾裝置方可填列
AO47: c8: | AP47: C/T製程水循環回收利用(排水導電度以μs/cm計算,低於1500μs/cm者不計)
B48: 請參考頁籤「用水回收率及排放率標準說明」，確認本廠依據環評承諾規範應符合之各項用水回收率等標準 | AP48: (c8=(f2-V1)* ((排水導電度/1250)-1.2))
B49: 製程回收率(RP) = | F49: c1+c2+c3+c4+c7 | O49: * 100% = | R49: =(Q15+S17+M20+V22+W13)/(M11+P8+W13-T9-AB8) -> 0.93438538 | T49: (> 85%) | V49: 註 ： | W49: 1. | X49: 請盡可能利用原圖表示水量數據. | AO49: c9: | AP49: 廠內民生用水回收
F50: P1+P2+c7-V3-Q | W50: 2. | X50: 計算公式已設定好, 在平衡圖用水點直接填數據,%會自動演算. | AO50: V1: | AP50: C/T蒸發水量(1000RT≒120 ~ 150CMD)
B51: 全廠回收率(RT) = | F51: (A1+A2)+(c1+c2+c3+c4+c5+c6+c7+c8+c9+R1) | O51: * 100% = | R51: =((B26+B29)+(Q15+S17+M20+V22+W27+Y33+W13+W34+K8+M45))/((B11+B26+B29)+(Q15+S17+M20+V22+W27+Y33+W13+W34+K8+M45+B32)-AA34-AB28-T9-AB8) -> 0.8738806 | T51: (> 70%) | W51: 3. | X51: 若平衡圖不適用，請與科管局確認後，得自行調整/演算. | AO51: V2: | AP51: L/S+C/S蒸發水量(1000CMM排氣量≒5CMD)
F52: (W+A1+A2)+(c1+c2+c3+c4+c5+c6+c7+c8+c9+R1+R2)-V1-V2-V3-Q | W52: 4. | X52: 回收率標準請依規定自行填寫 | AO52: V3: | AP52: 熱消型純水系統消耗及逸散水量
B53: 全廠排放率(DT) = | F53: D2 | O53: * 100% = | R53: =AQ11/(B11+B26+B29+B32) -> 0.35508637 | T53: (< 70%) | AO53: Q: | AP53: 產品消耗用水(移轉至產品內的水量，如：針劑、隱形眼鏡)
F54: W+A1+A2+R2 | X54: ：代表需自行輸入數據 | AE54: ：表格自動計算 | AO54: 消耗及逸散 : 飲用、食用、澆灌、灑掃清潔用水或其他行為造成用水消耗及逸散
AO55: F: | AP55: 總次級用水量
B56: C7回收量大於全廠回收量50%原因說明(若無免填) | AO56: f1: | AP56: Local/Central Scrubber補給用水
AO57: f2: | AP57: 冷卻水塔補給用水
AO58: f3: | AP58: 廠務與公共補給用水(澆灌等)
AO59: f4: | AP59: 回收水供應民生用途(沖廁等)

Sheet ！銅鑼園區廠商另需適用標準！
A1: 銅鑼園區進駐廠商另須符合冷卻用水回收率達70%以上，生活用水回收率或降低用水量最終須達35%
A2: 冷卻水塔濃縮倍率 = | F2: 排放水導電度(µS/cm) | K2: 1500 | O2: = | P2: =K2/K3 -> 7.5 | R2: (濃縮倍率>6倍) | U2: 註：考量當冷卻水塔濃縮倍數達6倍，相當於節省用水70%，故依環評規定「冷卻用水回收率>70%」，同時以濃縮倍數至少6倍以上為管制值，廠商擇一符合即可
F3: 補充水導電度(µS/cm) | K3: 200
A4: 冷卻用水回收率 = | F4: c6+r3 | N4: * 100% = | Q4: =MIN(('R9(有製程用水版)'!Y33+'R9(有製程用水版)'!AH36)/('R9(有製程用水版)'!U37-'R9(有製程用水版)'!AA34),1) -> 0.15 | S4: (>70%)
F5: f2-V1
A6: 生活用水回收率= | F6: c9 | N6: * 100% = | Q6: ='R9(有製程用水版)'!K8/('R9(有製程用水版)'!E9+'R9(有製程用水版)'!S40) -> 0.0625 | S6: (>35%) | U6: 註：生活用水回收率或降低用水量須達35%，廠商擇一符合即可
F7: w3+f4
A8: 降低生活用水率= | F8: 標準人均用水量-實際人均用水量 | N8: * 100% = | Q8: =IF(((IF(K10="是",0.06,0.03))-('R9(有製程用水版)'!E9+'R9(有製程用水版)'!S40)/D10)/(IF(K10="是",0.06,0.03))<0,"異常",((IF(K10="是",0.06,0.03))-('R9(有製程用水版)'!E9+'R9(有製程用水版)'!S40)/D10)/(IF(K10="是",0.06,0.03))) -> 0.3495935 | S8: (>35%)
F9: 標準人均用水量
A10: 員工人數= | D10: 4100 | E10: 人 | F10: ， | G10: 是否有餐廳供餐 | K10: 是

Sheet 用水回收率及排放率標準說明
A1: 新竹園區
A2: 建廠年 | B2: 製程回收率 | C2: 全廠回收率 | D2: 全廠排放率
A3: 民國83年以前 | B3: >50% | C3: >30% | D3: <80%
A4: 民國83~88年 | B4: >70% | C4: >50% | D4: <80%
A5: 民國88年以後 | B5: >85% | C5: >70% | D5: <70%
A6: 寶山一期（積體電路、光電業） | B6: >85% | C6: >75% | D6: <70%
A7: 寶山二期（積體電路業） | B7: >90% | C7: >85% | D7: <70%
A8: 註：若為購置既設廠房或租賃廠房，而有新設製程產線者，適用88年以後之標準
A10: 竹南園區
A11: 產業別 | B11: 製程回收率 | C11: 全廠回收率 | D11: 全廠排放率
A12: 半導體、光電業、通訊、精密機械、電腦周邊、其他 | B12: >85% | C12: >60% | D12: <70%
A14: 龍潭園區
A15: 產業別 | B15: 製程回收率 | C15: 全廠回收率 | D15: 全廠排放率
A16: 半導體、光電業 | B16: >85% | C16: >75% | D16: <70%
A17: 通訊、精密機械、生物科技、電腦周邊、其他 (製程用水量>100CMD) | B17: >40% | C17: - | D17: <70%
A19: 生醫園區
A20: 產業別 | B20: 製程回收率 | C20: 全廠回收率 | D20: 全廠排放率
A21: 全部 | B21: - | C21: >20.3% | D21: -
A22: 註：噴灌及建築物雨水回收再利用，回收率為10%
A24: 宜蘭園區
A25: 產業別 | B25: 製程回收率 | C25: 全廠回收率 | D25: 全廠排放率
A26: 非生技工廠 (製程用水量>100 CMD) | B26: >70% | C26: >22.9% | D26: <70%
A28: 銅鑼園區
A29: 產業別 | B29: 製程回收率 | C29: 全廠回收率 | D29: 冷卻水塔回收率 | E29: 生活用水回收率或降低用水量
A30: 半導體及光電業製造廠 | B30: >85% | C30: >80% | D30: >70% | E30: >35%
A31: 半導體及光電業RD廠(純水系統需水量100CMD以上) | B31: >50%
A32: 其他產業(製程需水量100MD以上) | B32: >40%
A33: 註：積體電路晶片製造廠，用水量達終期水量時，製程用水回收率應提升至86%以上

Sheet 統計欄位(不用填)
A1: 統計年份 | B1: 統計月份 | C1: 園區別 | D1: 廠商名稱 | E1: A1 | F1: A2 | G1: R2 | H1: W | I1: w1 | J1: w2 | K1: w3 | L1: P1 | M1: P2 | N1: P3 | O1: c1 | P1: c2 | Q1: c3 | R1: c4 | S1: c5 | T1: c6 | U1: c7 | V1: c8 | W1: c9 | X1: R1-1 | Y1: R1-2 | Z1: R2-1 | AA1: R2-2 | AB1: A1-1 | AC1: A1-2 | AD1: A2-1 | AE1: A2-2 | AF1: r1 | AG1: r2 | AH1: r3 | AI1: r4 | AJ1: R1 | AK1: f1 | AL1: f2 | AM1: f3 | AN1: f4 | AO1: F | AP1: V1 | AQ1: V2 | AR1: V3 | AS1: 公共逸散 | AT1: 民生逸散 | AU1: C/T導電度 | AV1: Q | AW1: d1 | AX1: d2 | AY1: d3 | AZ1: d4 | BA1: d5 | BB1: d5-1 | BC1: d5-2 | BD1: d5-3 | BE1: D1 | BF1: D2 | BG1: RP | BH1: RT | BI1: DT
A2: ='R9(有製程用水版)'!F1 -> 0 | B2: ='R9(有製程用水版)'!I1 -> 0 | C2: ='R9(有製程用水版)'!F2 -> 新竹園區 | D2: ='R9(有製程用水版)'!R1 -> OOOOOO股份有限公司OOO廠 | E2: ='R9(有製程用水版)'!B26 -> 300 | F2: ='R9(有製程用水版)'!B29 -> 120 | G2: ='R9(有製程用水版)'!B32 -> 0 | H2: ='R9(有製程用水版)'!B11 -> 10000 | I2: ='R9(有製程用水版)'!G11 -> 9000 | J2: ='R9(有製程用水版)'!E13 -> 850 | K2: ='R9(有製程用水版)'!E9 -> 150 | L2: ='R9(有製程用水版)'!M11 -> 11600 | M2: ='R9(有製程用水版)'!P8 -> 500 | N2: ='R9(有製程用水版)'!V11 -> 7080 | O2: ='R9(有製程用水版)'!Q15 -> 2000 | P2: ='R9(有製程用水版)'!S17 -> 2000 | Q2: ='R9(有製程用水版)'!M20 -> 1000 | R2: ='R9(有製程用水版)'!V22 -> 5500 | S2: ='R9(有製程用水版)'!W27 -> 100 | T2: ='R9(有製程用水版)'!Y33 -> 150 | U2: ='R9(有製程用水版)'!W13 -> 12000 | V2: ='R9(有製程用水版)'!W34 -> 240 | W2: ='R9(有製程用水版)'!K8 -> 10 | X2: ='R9(有製程用水版)'!H16 -> 0 | Y2: ='R9(有製程用水版)'!P35 -> 0 | Z2: ='R9(有製程用水版)'!K26 -> 0 | AA2: ='R9(有製程用水版)'!P32 -> 0 | AB2: ='R9(有製程用水版)'!K24 -> 100 | AC2: ='R9(有製程用水版)'!P26 -> 200 | AD2: ='R9(有製程用水版)'!K25 -> 0 | AE2: ='R9(有製程用水版)'!P29 -> 120 | AF2: ='R9(有製程用水版)'!AH22 -> 0 | AG2: ='R9(有製程用水版)'!AH29 -> 0 | AH2: ='R9(有製程用水版)'!AH36 -> 0 | AI2: ='R9(有製程用水版)'!AL14 -> 0 | AJ2: ='R9(有製程用水版)'!M45 -> 0 | AK2: ='R9(有製程用水版)'!U29 -> 1000 | AL2: ='R9(有製程用水版)'!U37 -> 7500 | AM2: ='R9(有製程用水版)'!U42 -> 170 | AN2: ='R9(有製程用水版)'!S40 -> 10 | AO2: ='R9(有製程用水版)'!T37 -> 8680 | AP2: ='R9(有製程用水版)'!AA34 -> 6500 | AQ2: ='R9(有製程用水版)'!AB28 -> 100 | AR2: ='R9(有製程用水版)'!T9 -> 20 | AS2: ='R9(有製程用水版)'!Y40 -> 90 | AT2: ='R9(有製程用水版)'!K5 -> 10 | AU2: ='R9(有製程用水版)'!V33 -> 1800 | AV2: ='R9(有製程用水版)'!AB8 -> 0 | AW2: ='R9(有製程用水版)'!AM6 -> 140 | AX2: ='R9(有製程用水版)'!AE11 -> 880 | AY2: ='R9(有製程用水版)'!AE14 -> 500 | AZ2: ='R9(有製程用水版)'!AE24 -> 200 | BA2: ='R9(有製程用水版)'!AE39 -> 1980 | BB2: ='R9(有製程用水版)'!AC31 -> 900 | BC2: ='R9(有製程用水版)'!AB40 -> 1000 | BD2: ='R9(有製程用水版)'!AC43 -> 80 | BE2: ='R9(有製程用水版)'!AJ11 -> 3560 | BF2: ='R9(有製程用水版)'!AQ11 -> 3700 | BG2: ='R9(有製程用水版)'!R49 -> 0.93438538 | BH2: ='R9(有製程用水版)'!R51 -> 0.8738806 | BI2: ='R9(有製程用水版)'!R53 -> 0.35508637
